BEGIN:VCALENDAR
VERSION:2.0
PRODID:-//hacksw/handcal//NONSGML v1.0//EN
BEGIN:VEVENT
SUMMARY:Assemblee Generale du CFC
UID:65bfa875-df0e-437e-bd57-f9b1e84445b9
DTSTART:20261113T190000Z
DTEND:20261113T220000Z
LOCATION:Localisation Maison du voisinage 78310 Coignieres
CATEGORIES:Administratif
STATUS:
URL;VALUE=URI:https://www.coignieres-foyer-club.org/evenements/2026/11/13/assemblee-generale-du-cfc-2441978
END:VEVENT
END:VCALENDAR
